BEGIN:VCALENDAR
VERSION:2.0
PRODID:-//Greater Anointing Church - ECPv6.15.15//NONSGML v1.0//EN
CALSCALE:GREGORIAN
METHOD:PUBLISH
X-WR-CALNAME:Greater Anointing Church
X-ORIGINAL-URL:https://gacooljc.org
X-WR-CALDESC:Events for Greater Anointing Church
REFRESH-INTERVAL;VALUE=DURATION:PT1H
X-Robots-Tag:noindex
X-PUBLISHED-TTL:PT1H
BEGIN:VTIMEZONE
TZID:UTC
BEGIN:STANDARD
TZOFFSETFROM:+0000
TZOFFSETTO:+0000
TZNAME:UTC
DTSTART:20240101T000000
END:STANDARD
END:VTIMEZONE
BEGIN:VEVENT
DTSTART;TZID=UTC:20250202T084500
DTEND;TZID=UTC:20250202T091500
DTSTAMP:20260419T103555
CREATED:20250130T153638Z
LAST-MODIFIED:20260208T184255Z
UID:23065-1738485900-1738487700@gacooljc.org
SUMMARY:Sunday Morning Prayer
DESCRIPTION:
URL:https://gacooljc.org/event/sunday-prayer/
CATEGORIES:Services
ATTACH;FMTTYPE=image/jpeg:https://gacooljc.org/wp-content/uploads/2025/01/Corporate-Pyayer.jpg
END:VEVENT
BEGIN:VEVENT
DTSTART;TZID=UTC:20250126T090000
DTEND;TZID=UTC:20250126T103000
DTSTAMP:20260419T103555
CREATED:20250123T204714Z
LAST-MODIFIED:20260208T184358Z
UID:22906-1737882000-1737887400@gacooljc.org
SUMMARY:Sunday Morning Worship
DESCRIPTION:Sunday Morning service starts at 9:00 a.m. and Live Streaming\nhttps://global.gotomeeting.com/join/995467637\nDial 1(669)224-3412 and enter the Access Code 995-467-637##
URL:https://gacooljc.org/event/sunday-worship-2/
CATEGORIES:Services
ATTACH;FMTTYPE=image/png:https://gacooljc.org/wp-content/uploads/2025/01/Worship.png
END:VEVENT
END:VCALENDAR